BEGIN:VCALENDAR
VERSION:2.0
PRODID:-//Heerlen Jazz - ECPv6.15.20//NONSGML v1.0//EN
CALSCALE:GREGORIAN
METHOD:PUBLISH
X-WR-CALNAME:Heerlen Jazz
X-ORIGINAL-URL:https://www.heerlenjazz.nl
X-WR-CALDESC:Evenementen voor Heerlen Jazz
REFRESH-INTERVAL;VALUE=DURATION:PT1H
X-Robots-Tag:noindex
X-PUBLISHED-TTL:PT1H
BEGIN:VTIMEZONE
TZID:Europe/Amsterdam
BEGIN:DAYLIGHT
TZOFFSETFROM:+0100
TZOFFSETTO:+0200
TZNAME:CEST
DTSTART:20200329T010000
END:DAYLIGHT
BEGIN:STANDARD
TZOFFSETFROM:+0200
TZOFFSETTO:+0100
TZNAME:CET
DTSTART:20201025T010000
END:STANDARD
BEGIN:DAYLIGHT
TZOFFSETFROM:+0100
TZOFFSETTO:+0200
TZNAME:CEST
DTSTART:20210328T010000
END:DAYLIGHT
BEGIN:STANDARD
TZOFFSETFROM:+0200
TZOFFSETTO:+0100
TZNAME:CET
DTSTART:20211031T010000
END:STANDARD
BEGIN:DAYLIGHT
TZOFFSETFROM:+0100
TZOFFSETTO:+0200
TZNAME:CEST
DTSTART:20220327T010000
END:DAYLIGHT
BEGIN:STANDARD
TZOFFSETFROM:+0200
TZOFFSETTO:+0100
TZNAME:CET
DTSTART:20221030T010000
END:STANDARD
BEGIN:DAYLIGHT
TZOFFSETFROM:+0100
TZOFFSETTO:+0200
TZNAME:CEST
DTSTART:20230326T010000
END:DAYLIGHT
BEGIN:STANDARD
TZOFFSETFROM:+0200
TZOFFSETTO:+0100
TZNAME:CET
DTSTART:20231029T010000
END:STANDARD
BEGIN:DAYLIGHT
TZOFFSETFROM:+0100
TZOFFSETTO:+0200
TZNAME:CEST
DTSTART:20240331T010000
END:DAYLIGHT
BEGIN:STANDARD
TZOFFSETFROM:+0200
TZOFFSETTO:+0100
TZNAME:CET
DTSTART:20241027T010000
END:STANDARD
BEGIN:DAYLIGHT
TZOFFSETFROM:+0100
TZOFFSETTO:+0200
TZNAME:CEST
DTSTART:20250330T010000
END:DAYLIGHT
BEGIN:STANDARD
TZOFFSETFROM:+0200
TZOFFSETTO:+0100
TZNAME:CET
DTSTART:20251026T010000
END:STANDARD
BEGIN:DAYLIGHT
TZOFFSETFROM:+0100
TZOFFSETTO:+0200
TZNAME:CEST
DTSTART:20260329T010000
END:DAYLIGHT
BEGIN:STANDARD
TZOFFSETFROM:+0200
TZOFFSETTO:+0100
TZNAME:CET
DTSTART:20261025T010000
END:STANDARD
END:VTIMEZONE
BEGIN:VEVENT
DTSTART;TZID=Europe/Amsterdam:20251102T190000
DTEND;TZID=Europe/Amsterdam:20251102T230000
DTSTAMP:20260419T164204
CREATED:20251013T190051Z
LAST-MODIFIED:20251013T190051Z
UID:17910-1762110000-1762124400@www.heerlenjazz.nl
SUMMARY:Jazzkirmes 2025
DESCRIPTION:De “Jazzkirmes” is een unieke jazz ervaring in Limburg. \nGeniet op deze zondagavond van een programma vol met live jazz in Cultuurhuis Heerlen. Laat je verrassen en meevoeren door top acts die muziek buiten het boekje spelen. \nMet dit jaar op het programma: \n– Whispering Trees (Modern Jazz)\n– Radomir Vasiljević Balkan Jazz Quartet (Gypsy Balkan jazz)\n– Marc Huynen Trio (Folk Cool Jazz) \nBijzondere cross-overs van jazz met klassiek\, fusion\, hiphop\, kolder en traditionals gespeeld door topmusici van eigen bodem. Een dag met bekend en nieuw talent om niet te missen!
URL:https://www.heerlenjazz.nl/event/jazzkirmes-2025/
LOCATION:Cultuurhuis Heerlen\, Sittarderweg 145\, Heerlen\, 6412CD\, Nederland
CATEGORIES:Blues,Cross-over,Jazz,Swing,Wereldmuziek
ATTACH;FMTTYPE=image/jpeg:https://www.heerlenjazz.nl/wp-content/uploads/2023/11/Wayne-Shorter-tribute-band-WM-3962-resized.jpg
ORGANIZER;CN="Cultuurhuis Heerlen":MAILTO:info@cultuurhuisheerlen.nl
END:VEVENT
BEGIN:VEVENT
DTSTART;TZID=Europe/Amsterdam:20240608T180000
DTEND;TZID=Europe/Amsterdam:20240608T180000
DTSTAMP:20260419T164204
CREATED:20240522T072901Z
LAST-MODIFIED:20240522T073007Z
UID:17737-1717869600-1717869600@www.heerlenjazz.nl
SUMMARY:Gypsy night met Tabor
DESCRIPTION:Zaterdag 8 juni organiseert Ap Art Events ism Hoeve de Aar aan de Welterlaan 45 in Heerlen een open air Gypsy Night met een optreden van de gypsy formatie TABOR. De entree voor deze gypsy night is inclusief een voucher voor een rondje Barbeque (keuze uit Saté\, Worst en/of Hamburger). Open vanaf 18.00. Om 19.30 u zal Gypsy Ensemble Tabor haar eerste set spelen ! \nTabor is een veelzijdig sinti-ensemble met een bijzondere liefde voor authentieke\, traditionele gypsymuziek. Zowel romaliederen uit Oost-Europa als sintliederen uit West-Europa komen voorbij. Soms warm en opzwepend\, soms droevig en melancholisch. Tabor speelt ook met veel vreugde ‘gypsy jazz’ in de geest van de legendarische Django Reinhardt en traditionele- en moderne jazz-standards. Tabor is een groep die je laat verlangen naar vijheid. Inhoudelijk staat Tabor voor diversiteit\, identiteit en versterking van het tanende culturele erfgoed van Sinti en Roma die dreigt te vervlakken door globalisering en digitalisering. Deze avond ligt de nadruk op dans. Zangeres/danseres Paula Ferron zorgt voor extra vuur tijdens deze Gypsy Night. Ze beheerst de traditionele gypsy dans maar treedt ook op met haar oriëntaalse dansshow.\nBezetting: Paula Ferron (zang/dans)\, Roger Moreno (zang/accordeon/viool)\, Janusch Hallema (contrabas)\, Moro Adell (rhythm gitaar)\, Tchawo Adell (solo gitaar/mandoline) \n\n\n\n\n\n\n\n\n\n\n\n\n\nBestel hier uw tickets
URL:https://www.heerlenjazz.nl/event/gypsy-night-met-tabor/
LOCATION:Hoeve de Aar\, Welterlaan 45\, Heerlen\, Nederland
CATEGORIES:Divers,Hot club-style jazz,Wereldmuziek
ATTACH;FMTTYPE=image/jpeg:https://www.heerlenjazz.nl/wp-content/uploads/2024/05/gypsy-tabor.jpg
END:VEVENT
BEGIN:VEVENT
DTSTART;TZID=Europe/Amsterdam:20231117T203000
DTEND;TZID=Europe/Amsterdam:20231117T230000
DTSTAMP:20260419T164204
CREATED:20231017T080127Z
LAST-MODIFIED:20231017T080313Z
UID:17678-1700253000-1700262000@www.heerlenjazz.nl
SUMMARY:Makaya McCraven -  In These Times Tour
DESCRIPTION:Makaya McCraven is één van de meest veelzijdige en veelgevraagde drummers van dit moment. Vorig jaar maakte deze in Chicago wonende jazzmuzikant\, componist en producer indruk op het podium van North Sea Jazz. Dit jaar staat hij met zijn enige Nederlandse show in Theater Heerlen met het gloednieuwe werk van zijn laatste album In These Times dat hij in september 2022 uitbracht. \n\nHeerlijk die muzikanten die zich door niets laten leiden en lekker hun eigen gang blijven gaan. In These Times is zo’n verrassingsplaat die je volledig ondersteboven blaast”\, recenseert Written in Music en beloont het nieuwe werk van Makaya McCraven met 4\,5 van de 5 sterren. Andere toonaangevende critici zijn even lovend. “McCraven creëert op In These Times zijn eigen muzikale universum… dat van de eerste tot en met de laatste noot fascineert\, verbaast\, betovert en hypnotiseert \n\nmeldt MusicMeter \n  \n\n\n\n\n\n\n\n\n\n\n\n\n\nMeer info en tickets
URL:https://www.heerlenjazz.nl/event/makaya-mccraven-in-these-times-tour/
LOCATION:Parkstad Limburg Theaters\, Burgemeester van Grunsvenplein 145\, Heerlen\, 6411AS\, Nederland
CATEGORIES:Jazz,Wereldmuziek
ATTACH;FMTTYPE=image/jpeg:https://www.heerlenjazz.nl/wp-content/uploads/2023/10/photo_by_sulyiman_color5.1230x500.jpeg
END:VEVENT
BEGIN:VEVENT
DTSTART;TZID=Europe/Amsterdam:20221217T203000
DTEND;TZID=Europe/Amsterdam:20221217T230000
DTSTAMP:20260419T164204
CREATED:20221205T063200Z
LAST-MODIFIED:20221205T063200Z
UID:17402-1671309000-1671318000@www.heerlenjazz.nl
SUMMARY:Under the Surface
DESCRIPTION:Na de eerste twee vrij geïmproviseerde albums Under The Surface (2017) en Trinity (2019) – beiden voor een Edison genomineerd – zet Under The Surface een volgende stap met Miin Triuwa. Op dit bijzondere derde album vinden de bandleden hun eigen ‘folk’. \nSinds de oprichting in 2015 beleeft Under The Surface internationaal succes. Drummer Joost Lijbaart wist meer dan 200 concerten in 25 landen op 4 continenten te organiseren in Afrika\, Zuid-Amerika\, Azië\, het Midden-Oosten en Europa. Geïnspireerd door de vele reizen en culturen waarmee de groep in aanraking kwam\, ontwikkelden de bandleden een unieke improvisatietaal; een combinatie tussen jazz\, folk\, etnische en elektronische muziek.
URL:https://www.heerlenjazz.nl/event/under-the-surface/
LOCATION:Parkstad Limburg Theaters\, Burgemeester van Grunsvenplein 145\, Heerlen\, 6411AS\, Nederland
CATEGORIES:Cross-over,Experimenteel/Improvisatie,Jazz,Wereldmuziek
ATTACH;FMTTYPE=image/jpeg:https://www.heerlenjazz.nl/wp-content/uploads/2022/12/under-the-surface..jpg
END:VEVENT
BEGIN:VEVENT
DTSTART;TZID=Europe/Amsterdam:20221113T200000
DTEND;TZID=Europe/Amsterdam:20221113T230000
DTSTAMP:20260419T164204
CREATED:20220930T113043Z
LAST-MODIFIED:20220930T113043Z
UID:17360-1668369600-1668380400@www.heerlenjazz.nl
SUMMARY:Dulce Pontes
DESCRIPTION:  \n\n\n\n\n\n\n\n\n\n\n\n\n\n\nDe grande dame van de Portugese muziek.\nDulce Pontes staat al ruim 30 jaar aan de top van de Portugese muziek. Tijdens haar optreden in Heerlen brengt de grande dame van de Portugese muziek een mix van fado\, flamenco en salsa en liederen van iconische componisten zoals Elis Regina en Ennio Morricone. \nEen grote stem\nWie Dulce Pontes heeft horen zingen weet wat een ongekend mooie en krachtige stem zij heeft. The New York Times schreef over haar performance: “When Dulce Pontes started a song with the words “meu amor” (‘my love) at Carnegie Hall on Thursday night\, she flooded them with emotion: longing\, seductiveness\, bravado\, desperation\, strength.” \nFadokoningin Amalia Rodrigues\nIn haar optredens overschrijdt zij elke muzikale grens: van fado naar Portugese folklore\, Piazzola’s tango en Arabisch getinte muziek. Ze werkte samen met topmusici uit alle hoeken en genres\, onder wie Andrea Bocelli en de eerder genoemde Ennio Morricone. De pers roemde haar als de opvolgster van fadokoningin Amalia Rodrigues. \nLine-up:\nZang: Dulce Pontes\nPortuguese Guitar – Pedro Viana\nAcoustic Guitar – João Domingos\nDrums – José Pontes\nPiano – Sergio Fernandez\nCello – Davide Zaccaria \nMuziek – Jazz / Wereldmuziek \nAanvang: 20:00 uur\nTHEATER HEERLEN – RABOzaal \n\n\n\nNormaal tarief\n\n\nSterrang:\n€ 40\,00\n\n\nRang 1:\n€ 35\,00\n\n\nRang 2:\n€ 31\,00\n\n\nRang 3:\n€ 28\,00\n\n\nRang 4:\n€ 19\,00\n\n\n\n\nBestel hier je tickets\n\n\n\n\n\n\n\n\n\n\n\n\n\n 
URL:https://www.heerlenjazz.nl/event/dulce-pontes/
LOCATION:Parkstad Limburg Theaters\, Burgemeester van Grunsvenplein 145\, Heerlen\, 6411AS\, Nederland
CATEGORIES:Jazz,Wereldmuziek
ATTACH;FMTTYPE=image/jpeg:https://www.heerlenjazz.nl/wp-content/uploads/2022/09/1230x500-3.jpeg
END:VEVENT
BEGIN:VEVENT
DTSTART;TZID=Europe/Amsterdam:20221112T203000
DTEND;TZID=Europe/Amsterdam:20221112T230000
DTSTAMP:20260419T164204
CREATED:20220930T112629Z
LAST-MODIFIED:20220930T112658Z
UID:17356-1668285000-1668294000@www.heerlenjazz.nl
SUMMARY:Ilja Reijngoud Quartet & Anna Serierse
DESCRIPTION:  \n\n\n\n\n\n\n\n\n\n\n\n\n\n\nEen avond vol nostalgie\, herkenning en muzikale verrassingen.\n100 jaar jazz. Van de pioniers op Congo Square in New Orleans naar de Mississippi. Van Chicago naar de muzikale revolutie in New York. En van Ellington via Miles Davis\, John Coltrane en Thelonious Monk naar de moderne muziek van Herbie Hancock en Wayne Shorter \nHet kwartet van Ilja Reijngoud speelt al 25 jaar met elkaar en heeft verschillende cd’s uitgebracht; één daarvan is bekroond met een Edison. Bij 100 jaar jazz wordt het viertal bijgestaan door het jonge zangtalent Anna Serierse. Zij is opgegroeid met de muziek van Frank Sinatra en Ella Fitzgerald en zal u kennis laten maken met meer eigentijdse en progressieve jazz. \nLine-up\nIlja Reijngoud (trombone)\nMartijn van Iterson (guitar)\nMarius Beets (bass)\nMarcel Serierse (drums)\nAnna Serierse (zang) \nAanvang: 20:30 uur \nTHEATER HEERLEN – € 19\,00 \n\nBestel hier je tickets\n\n\n\n\n\n\n\n\n\n\n\n\n\n 
URL:https://www.heerlenjazz.nl/event/ilja-reijngoud-quartet-anna-serierse/
LOCATION:Parkstad Limburg Theaters\, Burgemeester van Grunsvenplein 145\, Heerlen\, 6411AS\, Nederland
CATEGORIES:Jazz,Wereldmuziek
ATTACH;FMTTYPE=image/jpeg:https://www.heerlenjazz.nl/wp-content/uploads/2022/09/1230x500-2.jpeg
END:VEVENT
BEGIN:VEVENT
DTSTART;TZID=Europe/Amsterdam:20221106T120000
DTEND;TZID=Europe/Amsterdam:20221106T120000
DTSTAMP:20260419T164204
CREATED:20220929T084338Z
LAST-MODIFIED:20220930T112204Z
UID:17323-1667736000-1667736000@www.heerlenjazz.nl
SUMMARY:Paulus Schäfer\, Joost Zoeteman & Bart Tarenskeen Trio
DESCRIPTION:  \n\n\n\n\n\n\n\n\n\n\n\n\n\n\nAppeltaartmatinee Paulus Schäfer\, Joost Zoeteman & Bart Tarenskeen Trio\nGypsy\, jazz & swing! \nEen swingend programma vol improvisatie\, gypsy swing\, vuur en virtuositeit.\nDit matineeconcert is een muzikale ontmoeting tussen twee gitaristen en een contrabassist\, met een verschillende achtergrond en speelstijl. Maar\, met dezelfde passie voor de gitaar. Het resultaat is een swingend programma vol improvisatie\, gypsy swing\, vuur en virtuositeit waarbij de gitaar centraal staat. \nPaulus Schäfer is internationaal één van de meest getalenteerde en veelgevraagde gypsy swing jazzgitaristen van dit moment. Gitarist Joost Zoeteman geniet bekendheid door zijn eigenzinnige gitaarspel; een cross-over van jazz\, gypsy jazz en hedendaagse invloeden uit alle windstreken. Het Amerikaanse magazine Just Jazz Guitar schreef over zijn spel: “This is music with balls\, artistry and attitude from a player who has chops for days.” Samen met Bart Tarenskeen op contrabas blaast dit trio met zijn verfrissende muzikale benadering bestaande stijlen nieuw leven in. \nNa het concert kunt u (na)genieten van een gratis kop koffie of thee met (appel)taart \n  \n\nBestel hier je tickets\n\n\n\n\n\n\n\n\n\n\n\n\n\n 
URL:https://www.heerlenjazz.nl/event/paulus-schafer-joost-zoeteman-bart-tarenskeen-trio/
LOCATION:Parkstad Limburg Theaters -Kerkrade\, Theaterplein 30\, Kerkrade\, 6461 DR
CATEGORIES:Hot club-style jazz,Jazz,Swing,Wereldmuziek
ATTACH;FMTTYPE=image/jpeg:https://www.heerlenjazz.nl/wp-content/uploads/2022/09/1230x500-1.jpeg
END:VEVENT
BEGIN:VEVENT
DTSTART;TZID=Europe/Amsterdam:20221105T203000
DTEND;TZID=Europe/Amsterdam:20221105T230000
DTSTAMP:20260419T164204
CREATED:20220929T081956Z
LAST-MODIFIED:20220930T112214Z
UID:17316-1667680200-1667689200@www.heerlenjazz.nl
SUMMARY:Dutch Jazz Heritage Trilogy Part Three: Ella Fitzgerald
DESCRIPTION:  \n\n\n\n\n\n\n\n\n\n\n\n\n\n\nHet Jazz Orchestra of the Concertgebouw en Parkstad Limburg Theaters presenteren samen de drieluik ‘Dutch Jazz Heritage’. In elk van deze concerten staat een legendarische jazzlegende centraal. We sluiten de reeks af met een ode aan Ella Fitzgerald\, The Queen of Jazz\, met Marjorie Barnes & Anna Serierse op zang. \nElla Fitzgerald\nDe legendarische zangeres Ella Fitzgerald behoeft eigenlijk geen introductie meer. De First Lady of Song genoot wereldfaam door klassiekers als April in Paris\, Love For Sale en duetten met Louis Armstrong als Cheek to Cheek en Can’t We Be Friends. Ze stond bekend om haar onmiskenbare\, zuivere klank en werkte met alle grootheden: van Frank Sinatra en Dizzy Gillespie tot Duke Ellington en Count Basie. \nHistorisch concert\nOp 5 mei 1957 stond The Queen of Jazz voor de tweede in het Concertgebouw in Amsterdam. In een afgeladen grote zaal veroverde ze de harten van het Nederlandse publiek. Het Jazz Orchestra of the Concertgebouw brengt een ode aan Ella Fitzgerald\, vergezeld door zangeressen Marjorie Barnes\, die eerder al in het voorprogramma van Frank Sinatra tourde\, en Anna Serierse. \nJazz Orchestra of the Concertgebouw\nHet Jazz Orchestra of the Concertgebouw bestaat uit de beste Nederlandse jazzmusici en is stevig geworteld in de Nederlandse big band traditie. De gerenommeerde big band speelt regelmatig met gastsolisten van wereldklasse\, waaronder Joshua Redman\, Dr. Lonnie Smith\, Christian Scott en in het verleden ook met Toots Thielemans. Het orkest won maar liefst twee Edison Awards; voor Crossroads ( 2019) en Blues for the Date (2010). \nOnder leiding van Rob Horsting reconstrueert het Jazz Orchestra of the Concertgebouw een legendarische optreden en de sfeer van 60 jaar geleden. Muziekjournalist en ooggetuige Bert Vuijsje vertelt het boeiende historische verhaal aan de hand van originele foto’s en filmbeelden. \nUitvoering door\nDirigent: Rob Horsting\nTeksten: Bert Vuijsje\nZangeressen: Marjorie Barnes & Anna Serierse \nMuziek – Jazz / Wereldmuziek \nAanvang: 20:30 uur\nTHEATER HEERLEN – LIMBURGzaal\nSterrang: € 25\,00\nRang 1: € 22\,50\nRang 2: € 17\,50\nRang 3: € 13\,50 \n\nBestel hier je tickets\n\n\n\n\n\n\n\n\n\n\n\n\n\n 
URL:https://www.heerlenjazz.nl/event/dutch-jazz-heritage-trilogy-part-three-ella-fitzgerald/
LOCATION:Parkstad Limburg Theaters\, Burgemeester van Grunsvenplein 145\, Heerlen\, 6411AS\, Nederland
CATEGORIES:Jazz,Wereldmuziek
ATTACH;FMTTYPE=image/jpeg:https://www.heerlenjazz.nl/wp-content/uploads/2022/09/1230x500.jpeg
END:VEVENT
BEGIN:VEVENT
DTSTART;TZID=Europe/Amsterdam:20221103T200000
DTEND;TZID=Europe/Amsterdam:20221103T230000
DTSTAMP:20260419T164204
CREATED:20220929T081540Z
LAST-MODIFIED:20220930T112304Z
UID:17312-1667505600-1667516400@www.heerlenjazz.nl
SUMMARY:Eliades Ochoa Star of Buena Vista Social Club
DESCRIPTION:  \n\n\n\n\n\n\n\n\n\n\n\n\n\n\n\nDe Cubaanse Johnny Cash én man achter ‘Chan Chan’ live in Heerlen. \n\nDe Cubaanse zanger/gitarist Eliades Ochoa is de laatste levende mannelijke zanger van Buena Vista Social Club®. Deze groep muzikanten werd eind jaren 90 ongelofelijk groot met hun traditionele son-muziek. Deze wereldster komt met de allerbeste Cubaanse muzikanten\, eigen repertoire en de bekendste hits van de Buena Vista Social Club® naar Heerlen voor een swingend theaterconcert in onze RABOzaal.Eliades Ochoa werd geboren in Santiago de Cub\, de bakermat van de Cubaanse son. Hij leerde gitaar spelen toen hij zes was en verdiende daarmee de kost in cafés en bordelen in Cuba. Vandaag de dag geldt hij als één van de meest gerenommeerde Cubaanse ‘sonero’s’ aller tijden en de beste gitarist van zijn generatie. Als geen ander bewaakt Eliades de traditionele Cubaanse son met zijn doorleefde en nog altijd krachtige stem.\n\nGrammy\, goud en platina\nIn Cuba was Ochoa al sinds 1969 een beroemdheid. Het buitenland volgde toen hij in 1982 leadgitarist en zanger werd van het Cuarteto Patria. Echt wereldberoemd werd hij toen hij zich aansloot bij de Buena Vista Social Club®. Met hen won hij in 1997 zijn eerste Grammy voor Best Tropical Latin Performance. Vele internationale prijzen zouden volgen. In ons land zagen wij deze in het zwart geklede gitaargrootheid met cowboyhoed – vandaar de bijnaam ‘The Cuban Johnny Cash’ – ook nog in een samenwerking met BLØF bij het nummer Hemingway.Muziek – Pop / Rock / Jazz / Wereldmuziek  \nAanvang: 20:00 uur\nTHEATER HEERLEN – RABOzaal \n\n\n\nNormaal tarief\n\n\nSterrang:\n€ 39\,00\n\n\nRang 1:\n€ 34\,00\n\n\nRang 2:\n€ 29\,00\n\n\nRang 3:\n€ 23\,50\n\n\nRang 4:\n€ 19\,00\n\n\n\n\n\nBestel hier je tickets\n\n\n\n\n\n\n\n\n\n\n\n\n\n 
URL:https://www.heerlenjazz.nl/event/eliades-ochoa-star-of-buena-vista-social-club/
LOCATION:Parkstad Limburg Theaters\, Burgemeester van Grunsvenplein 145\, Heerlen\, 6411AS\, Nederland
CATEGORIES:Jazz,Wereldmuziek
ATTACH;FMTTYPE=image/png:https://www.heerlenjazz.nl/wp-content/uploads/2022/09/1230x500.png
END:VEVENT
BEGIN:VEVENT
DTSTART;TZID=Europe/Amsterdam:20220626T150000
DTEND;TZID=Europe/Amsterdam:20220626T180000
DTSTAMP:20260419T164204
CREATED:20220605T081144Z
LAST-MODIFIED:20220605T085155Z
UID:17225-1656255600-1656266400@www.heerlenjazz.nl
SUMMARY:Dominique Paats en Paulus Schäfer
DESCRIPTION:Twee virtuoze jazz improvisatoren – bezielde melodieën – strakke swing – flitsende grooves \nInstrumentale akoestische Jazz Manouche/ Gipsy Jazz \nPaulus Schäfer en Dominique Paats verbinden in hun bezielde improvisaties het beste uit twee werelden: de ‘jazz manouche’\, gebaseerd op de “Hot club de France’ stijl\, en moderne Europese jazz uit de Afro- Amerikaanse traditie. Beiden even virtuoos\, beiden met een diep emotionele\, op melodie gebaseerde bezieling.  \nOnline via ticketlink: €8\,00\nVia mail of telefoon reserveren €9\,50\ninfo@cultuurhuisheerlen.nl\n045 5612121 (ma-vr 10.00 – 17.00 uur) \n  \n\n\n\n\n\n\n\n\n\n\n\n\n\nBestel hier je tickets
URL:https://www.heerlenjazz.nl/event/dominique-paats-en-paulus-schafer/
LOCATION:Cultuurhuis Heerlen\, Sittarderweg 145\, Heerlen\, 6412CD\, Nederland
CATEGORIES:Hot club-style jazz,Jazz,Limbo Jazz,Wereldmuziek
ATTACH;FMTTYPE=image/jpeg:https://www.heerlenjazz.nl/wp-content/uploads/2022/06/Schaferpaats.jpg
ORGANIZER;CN="Cultuurhuis Heerlen":MAILTO:info@cultuurhuisheerlen.nl
END:VEVENT
BEGIN:VEVENT
DTSTART;TZID=Europe/Amsterdam:20220522T120000
DTEND;TZID=Europe/Amsterdam:20220522T180000
DTSTAMP:20260419T164204
CREATED:20220425T092639Z
LAST-MODIFIED:20220425T092639Z
UID:17200-1653220800-1653242400@www.heerlenjazz.nl
SUMMARY:Amateur BigBand Festival
DESCRIPTION:MEI BIGBAND MAAND \nEr bestaan in het zuiden van Nederland heel wat amateur bigbands die een aardig deuntje spelen\, echter is het niet altijd makkelijk om een podium te vinden\, vandaar het initiatief een amateur bigband festival te organiseren in Cultuurhuis Heerlen. \nOp deze zondagmiddag zullen vier bands zich presenteren: \nHet leerorkest Kumulus Maastricht o.l.v. Marc Huynen is een band met muzikanten waarbij het plezier om bigbandmuziek te spelen centraal staat en iedereen op zijn eigen niveau zijn improvisatie mag spelen. \nBigband in Motion o.l.v. Tim Paters is een bigband uit Heerlen. Het repertoire is erg divers en varieert van latin\, bossa’s\, swing en funk. Dit kan door de volledige bezetting van een big band met aanvulling van percussie en onze zanger en zangeressen. In al die jaren van samenspel is het een hechte club die met veel plezier en passie musiceert! \nBigband Kumulus Maastricht o.l.v. Marc Huynen. Naast klassiekers uit het Basie- en Ellingtonrepertoire speelt deze band ook latin en funky stukken waarin veel ruimte voor improvisatie is. \nTenslotte Pete’s Corner Bigband\, al sinds de oprichting onder de bezielende leiding van inmiddels oud-docent van Art4U en trompettist Guus Dohmen schuwt\, naast de traditionele swing van Count Basie\, Duke Ellington en Sammy Nestico\, het modernere repertoire zoals Latin\, Funk en Rock niet. \nAfsluitend zal in het theatercafé een jazz combo zorgen voor een gezellige afterparty! \nDe bigband zullen optreden tussen 12:00 en 16:00\, waarna tussen 16:00 en 18:00 nog gezellig borrelen onder het genot van heerlijke jazz muziek. \nOnline via ticketlink: €7\,50\nVia mail of telefoon reserveren €7\,50\ninfo@cultuurhuisheerlen.nl\n045 5612121 (ma-vr 10.00 – 17.00 uur) \n*MEI BIG BAND MAAND \n\n\n\n\n\n\n\n\n\n\n\n\n\nBestel hier je tickets
URL:https://www.heerlenjazz.nl/event/amateur-bigband-festival/
LOCATION:Cultuurhuis Heerlen\, Sittarderweg 145\, Heerlen\, 6412CD\, Nederland
CATEGORIES:Big Band,Jazz,Jeugd/jongeren en jazz,Limbo Jazz,Wereldmuziek
ATTACH;FMTTYPE=image/jpeg:https://www.heerlenjazz.nl/wp-content/uploads/2022/04/22-mei.jpeg
ORGANIZER;CN="Cultuurhuis Heerlen":MAILTO:info@cultuurhuisheerlen.nl
END:VEVENT
BEGIN:VEVENT
DTSTART;TZID=Europe/Amsterdam:20220515T200000
DTEND;TZID=Europe/Amsterdam:20220515T230000
DTSTAMP:20260419T164204
CREATED:20220425T090545Z
LAST-MODIFIED:20220425T090642Z
UID:17191-1652644800-1652655600@www.heerlenjazz.nl
SUMMARY:Mambísimo Big Band feat Conrad Herwig
DESCRIPTION:MEI BIGBAND MAAND \nMet Mambísimo Big Band herleven de gouden tijden van de grote Latin Big Bands. Deze 16-koppige band neemt je mee terug naar de legendarische concerten in het New Yorkse Palladium en het Tropicana in Havana. \nMambísimo Big Band is een uniek project die de beste latin muzikanten van Cuba\, Venezuela\, New York\, Duitsland\, Colombia\, Nederland & België samenbrengt. Het repertoire van de band bestaat uit een perfecte mix van mambo\, salsa en cha cha cha. Bekende en minder bekende nummers als Ran Kan Kan\, Yo Soy La Rumba\, Aja Bibi van artiesten als Tito Puente\, Machito\, Mario Bauzá en Beny Moré passeren achtereenvolgens de revue. \nEen concert van Mambísimo Big Band staat garant voor opzwepende ritme’s\, veel solistisch vuurwerk en muzikale klasse. U zult gegarandeerd niet in uw zetel kunnen blijven zitten tijdens een concert van deze band! A bailar! \n*Mei Big Band Maand \nOnline via ticketlink: €20\,-\nVia mail of telefoon reserveren €25\,-\ninfo@cultuurhuisheerlen.nl\n045 5612121 (ma-vr 10.00 – 17.00 uur) \n\n\n\n\n\n\n\n\n\n\n\n\n\nBestel hier je tickets
URL:https://www.heerlenjazz.nl/event/mambisimo-big-band-feat-conrad-herwig/
LOCATION:Cultuurhuis Heerlen\, Sittarderweg 145\, Heerlen\, 6412CD\, Nederland
CATEGORIES:Big Band,Jazz,Wereldmuziek
ATTACH;FMTTYPE=image/jpeg:https://www.heerlenjazz.nl/wp-content/uploads/2022/04/mambisimo-big-band-foto.jpeg
ORGANIZER;CN="Cultuurhuis Heerlen":MAILTO:info@cultuurhuisheerlen.nl
END:VEVENT
BEGIN:VEVENT
DTSTART;TZID=Europe/Amsterdam:20220512T203000
DTEND;TZID=Europe/Amsterdam:20220512T230000
DTSTAMP:20260419T164204
CREATED:20220425T084153Z
LAST-MODIFIED:20220425T084309Z
UID:17178-1652387400-1652396400@www.heerlenjazz.nl
SUMMARY:Maria Mendes - Close to Me - Fado & Jazz in symphony
DESCRIPTION:  \n\n\n\n\n\n\n\n\n\n\n\n\n\n\nMaria Mendes ft. Metropole Orkest & John Beasley\nClose to Me – Fado & Jazz in symphony \nDit jaar gaat een langgekoesterde wens van de zangeres in vervulling: het live uitvoeren van Close To Me. Samen met John Beasley en het Metropole Orkest tourt Mendes dit jaar langs de Nederlandse zalen voor een onvergetelijke ‘Fado & Jazz in symphony’ live uitvoering van dit alom geprezen project. \nSterrang: € 33\,50\nRang 1: € 30\,00\nRang 2: € 26\,00\nRang 3: € 16\,00 \n\nBestel hier je tickets\n\n\n\n\n\n\n\n\n\n\n\n\n\n 
URL:https://www.heerlenjazz.nl/event/metropole-orkest-toots-thielemans-duplicate-1/
LOCATION:Parkstad Limburg Theaters\, Burgemeester van Grunsvenplein 145\, Heerlen\, 6411AS\, Nederland
CATEGORIES:Jazz,Wereldmuziek
ATTACH;FMTTYPE=image/jpeg:https://www.heerlenjazz.nl/wp-content/uploads/2022/04/1230x500-2.jpeg
END:VEVENT
BEGIN:VEVENT
DTSTART;TZID=Europe/Amsterdam:20211112T203000
DTEND;TZID=Europe/Amsterdam:20211112T230000
DTSTAMP:20260419T164204
CREATED:20211004T134039Z
LAST-MODIFIED:20211004T134039Z
UID:16965-1636749000-1636758000@www.heerlenjazz.nl
SUMMARY:Sedaa (MNG/IRN)
DESCRIPTION:Vooral live zet Sedaa vanaf de allereerste klanken de toon voor wat een bijzondere ervaring zal gaan worden.\nDat muziek een internationale taal is\, wordt zelden zó diep gevoeld als tijdens een concert van Sedaa. De muzikanten uit Mongolië en Iran leggen in hun muziek een link tussen traditionele Mongoolse muziek en de Oriënt. \nMongools of grunge?\nMet magische klanken uit Mongoolse kelen en een net zo bijzonder instrumentarium creëert Sedaa een heel eigen en fascinerende klankwereld. Soms authentiek oosters en traditioneel om vervolgens weer heel westers en modern te klinken. Sedaa zorgt elke keer met boventoonzang (keelzang) en virtuoos spel voor een muzikale sensatie. \nBijzondere ervaring\nIn ons land is deze muzikale sensatie vaker te zien geweest in VPRO’s Vrije Geluiden. Zanger Nasaa Nasanjargal zingt in de typisch Mongoolse keelzangstijl en met Naraa Naranbaatar bespeelt hij de Morin Khuur: de twee-snarige paardenkopviool. Ook de virtuoze dulcimer-speler Ganzorig Davaakhuu en de Iraanse multi-instrumentalist Omid Bahadori spelen op traditionele instrumenten. \n\nBestel hier je tickets
URL:https://www.heerlenjazz.nl/event/sedaa/
LOCATION:Parkstad Limburg Theaters\, Burgemeester van Grunsvenplein 145\, Heerlen\, 6411AS\, Nederland
CATEGORIES:Cross-over,Jazz,Wereldmuziek
ATTACH;FMTTYPE=image/jpeg:https://www.heerlenjazz.nl/wp-content/uploads/2021/10/Sedaa-MNGIRN.jpeg
END:VEVENT
END:VCALENDAR